BEGIN:VCALENDAR
VERSION:2.0
PRODID:-//Fiera Tur | Uluslararası ve Yurtdışı Fuar Turları - ECPv6.10.0//NONSGML v1.0//EN
CALSCALE:GREGORIAN
METHOD:PUBLISH
X-WR-CALNAME:Fiera Tur | Uluslararası ve Yurtdışı Fuar Turları
X-ORIGINAL-URL:https://fieratur.novai.com.tr/en/
X-WR-CALDESC:Events for Fiera Tur | Uluslararası ve Yurtdışı Fuar Turları
REFRESH-INTERVAL;VALUE=DURATION:PT1H
X-Robots-Tag:noindex
X-PUBLISHED-TTL:PT1H
BEGIN:VTIMEZONE
TZID:Europe/Moscow
BEGIN:STANDARD
TZOFFSETFROM:+0300
TZOFFSETTO:+0300
TZNAME:MSK
DTSTART:20250101T000000
END:STANDARD
END:VTIMEZONE
BEGIN:VEVENT
DTSTART;VALUE=DATE:20250929
DTEND;VALUE=DATE:20251002
DTSTAMP:20260424T185107
CREATED:20250213T143522Z
LAST-MODIFIED:20250213T143724Z
UID:10000067-1759104000-1759363199@fieratur.novai.com.tr
SUMMARY:PACK EXPO LAS VEGAS
DESCRIPTION:Fair InfoTour InformationExhibition DetailsFair Info      History: 15 December 2025 - 17 December 2025 Category: Food Country: Saudi Arabia Fairground: Riyadh Front Exhibition & Conference Center   Tour Information      \n     \nFlight Info\n    \n        \n            \n                Departure Date\n                Return Date\n                Airline\n                Departure Airport\n                Arrival Airport\n                Departure time İstanbul\n                Arrivel Time to Destination\n                Departure time Destination\n                Landing time İstanbul\n            \n        \n        \n            \n                \n                \n                \n                \n                \n                \n                \n                \n                \n            \n        \n    \n \n    Accomodation\n    \n        \n            \n                Hotel Name\n                Distance to Fair \n                Distance to Transportation\n                Location\n            \n        \n        \n            \n                \n                 Meter\n                 Meter\n                Show on Map\n            \n        \n    \n \n\n \n     Exhibition Details\n\n   Pack Expo Las Vegas\, which will be held between September 29 and October 1\, 2025\, stands out as one of the world’s largest fairs in the packaging and processing sectors. The fair offers the opportunity to connect with the business world by reaching end users from different industries and regions. Pack Expo Las Vegas brings together more than 30\,000 people from the packaging and processing industry\, enabling businesses to meet buyers and build strong business connections to accelerate their projects. Participants have the opportunity to strengthen customer relationships\, reach new potential customers and increase the visibility of their brands. It also offers the chance to evaluate the competition in the market and get innovative feedback.  Pack Expo Las Vegas brings together more than 30\,000 people from the packaging and processing industry\, enabling businesses to meet buyers and build strong business connections to accelerate their projects. Participants have the opportunity to strengthen customer relationships\, reach new potential customers and increase the visibility of their brands. It also offers the chance to evaluate the competition in the market and get innovative feedback.   The exhibition showcases a wide range of solutions with more than 2\,300 exhibiting companies in many sectors such as automation\, control components\, packaging machinery\, food life sciences processing machinery. Pack Expo Las Vegas offers a platform to grow your business\, discover innovations\, and stay ahead of the competition by connecting with industry leaders.   Name Surname *Telephone number *EmailName of the Fair You Are Interested InNotesThe message has been sent.×There was a problem sending the message.×Send
URL:https://fieratur.novai.com.tr/en/fuar-turu/pack-expo-las-vegas/
LOCATION:Las Vegas Convention Center\, 3150 Paradise Rd Las Vegas\, NV 89109\, Las Vegas\, United States
CATEGORIES:Agriculture & Packaging
ATTACH;FMTTYPE=image/jpeg:https://fieratur.novai.com.tr/wp-content/uploads/2025/02/PACK-EXPO-LAS-VEGAS.jpg
END:VEVENT
BEGIN:VEVENT
DTSTART;VALUE=DATE:20250930
DTEND;VALUE=DATE:20251002
DTSTAMP:20260424T185107
CREATED:20250213T144018Z
LAST-MODIFIED:20250730T084525Z
UID:10000069-1759190400-1759363199@fieratur.novai.com.tr
SUMMARY:UK CONSTRUCTION WEEK
DESCRIPTION:Fair InfoTour InformationExhibition DetailsFair Info      History: 15 December 2025 - 17 December 2025 Category: Food Country: Saudi Arabia Fairground: Riyadh Front Exhibition & Conference Center   Tour Information      \n     \nFlight Info\n    \n        \n            \n                Departure Date\n                Return Date\n                Airline\n                Departure Airport\n                Arrival Airport\n                Departure time İstanbul\n                Arrivel Time to Destination\n                Departure time Destination\n                Landing time İstanbul\n            \n        \n        \n            \n                \n                \n                \n                \n                \n                \n                \n                \n                \n            \n        \n    \n \n    Accomodation\n    \n        \n            \n                Hotel Name\n                Distance to Fair \n                Distance to Transportation\n                Location\n            \n        \n        \n            \n                \n                 Meter\n                 Meter\n                Show on Map\n            \n        \n    \n \n\n \n     Exhibition Details\n\n   UK Building Week\, which runs from 30 September to 1 October 2025\, started at the NEC in Birmingham in 2015 and has since grown to become the UK’s largest building event. The fair provided the opportunity to reach more than 100\,000 visitors by exhibiting thousands of international exhibitors\, innovative products\, materials and services. UK Construction Week stands out as the main structure of the changes in the sector. In many seminars\, the best speakers in the field come together to discuss important issues in the industry and create real change.  UK Building Week Birmingham is a must-have event for building builders and suppliers in the heart of the UK. With the intense participation of a diverse audience of exhibitors and investors in the sector\, it has the opportunity to showcase products\, make connections and benefit from strategic opportunities.  This strategic investment increases your brand recognition\, increases business opportunities and gives you a significant position in the construction market in the Midlands region and beyond. UK Building Week Birmingham includes Build Live\, Infrastructure Live & Digital Construction and is organised in conjunction with Roofing Expo\, Onsite On Hire and Grand Designs Live.   Name Surname *Telephone number *EmailName of the Fair You Are Interested InNotesThe message has been sent.×There was a problem sending the message.×Send
URL:https://fieratur.novai.com.tr/en/fuar-turu/uk-construction-week/
LOCATION:National Exhibition Centre\, Pendigo Way\, Marston Green\, Birmingham B40 1NT\, United Kingdom\, Birmingham\, United Kingdom
CATEGORIES:Construction
ATTACH;FMTTYPE=image/jpeg:https://fieratur.novai.com.tr/wp-content/uploads/2025/02/UK-CONSTRUCTION-WEEK.jpg
END:VEVENT
BEGIN:VEVENT
DTSTART;VALUE=DATE:20251001
DTEND;VALUE=DATE:20251005
DTSTAMP:20260424T185107
CREATED:20250723T115032Z
LAST-MODIFIED:20250730T084334Z
UID:10000098-1759276800-1759622399@fieratur.novai.com.tr
SUMMARY:IDR EXPO
DESCRIPTION:Fair InfoTour InformationExhibition DetailsFair Info      History: 15 December 2025 - 17 December 2025 Category: Food Country: Saudi Arabia Fairground: Riyadh Front Exhibition & Conference Center   Tour Information      \n     \nFlight Info\n    \n        \n            \n                Departure Date\n                Return Date\n                Airline\n                Departure Airport\n                Arrival Airport\n                Departure time İstanbul\n                Arrivel Time to Destination\n                Departure time Destination\n                Landing time İstanbul\n            \n        \n        \n            \n                \n                \n                \n                \n                \n                \n                \n                \n                \n            \n        \n    \n \n    Accomodation\n    \n        \n            \n                Hotel Name\n                Distance to Fair \n                Distance to Transportation\n                Location\n            \n        \n        \n            \n                \n                 Meter\n                 Meter\n                Show on Map\n            \n        \n    \n \n\n \n     Exhibition Details\n\n\n\n   IDR Expo Basra\, which will be held at Basra International Fairground between 1-4 October 2025\, is an important business platform for companies operating in the building and construction sector. Offering great opportunities for companies that want to open up to the Iraqi market\, the fair is a meeting point where the latest products in the sector are exhibited\, collaborations are established and access to regional projects is provided.  Name Surname *Telephone number *EmailName of the Fair You Are Interested InNotesThe message has been sent.×There was a problem sending the message.×Send
URL:https://fieratur.novai.com.tr/en/fuar-turu/idr-expo/
LOCATION:Basra International Fair Grounds\, HQ8M+2GV\, Basrah\, Basra Governorate\, Iraq\, Persian\, Iraq
CATEGORIES:Construction
ATTACH;FMTTYPE=image/png:https://fieratur.novai.com.tr/wp-content/uploads/2025/07/idr-expo.png
END:VEVENT
END:VCALENDAR