BEGIN:VCALENDAR
VERSION:2.0
PRODID:-//Fiera Tur | Uluslararası ve Yurtdışı Fuar Turları - ECPv6.10.0//NONSGML v1.0//EN
CALSCALE:GREGORIAN
METHOD:PUBLISH
X-ORIGINAL-URL:https://fieratur.novai.com.tr/en/
X-WR-CALDESC:Events for Fiera Tur | Uluslararası ve Yurtdışı Fuar Turları
REFRESH-INTERVAL;VALUE=DURATION:PT1H
X-Robots-Tag:noindex
X-PUBLISHED-TTL:PT1H
BEGIN:VTIMEZONE
TZID:Europe/Moscow
BEGIN:STANDARD
TZOFFSETFROM:+0300
TZOFFSETTO:+0300
TZNAME:MSK
DTSTART:20250101T000000
END:STANDARD
END:VTIMEZONE
BEGIN:VEVENT
DTSTART;VALUE=DATE:20250310
DTEND;VALUE=DATE:20250313
DTSTAMP:20260426T073506
CREATED:20241118T092520Z
LAST-MODIFIED:20241120T080800Z
UID:10000021-1741564800-1741823999@fieratur.novai.com.tr
SUMMARY:Pack Expo Southeast
DESCRIPTION:Fair InfoTour InformationExhibition DetailsFair Info     \n          \n\n          History: 29 September 2025 - 1 October 2025\n          \n\n          Category: Agriculture & Packaging\n          \n\n          Country: \n          \n\n          Fairground: Las Vegas Convention Center \n          \n\n            Tour Information      \n     \nFlight Info\n    \n        \n            \n                Departure Date\n                Return Date\n                Airline\n                Departure Airport\n                Arrival Airport\n                Departure time İstanbul\n                Arrivel Time to Destination\n                Departure time Destination\n                Landing time İstanbul\n            \n        \n        \n            \n                \n                \n                \n                \n                \n                \n                \n                \n                \n            \n        \n    \n \n    Accomodation\n    \n        \n            \n                Hotel Name\n                Distance to Fair \n                Distance to Transportation\n                Location\n            \n        \n        \n            \n                \n                 Meter\n                 Meter\n                Show on Map\n            \n        \n    \n \n\n \n     Exhibition Details    \n          \n\n          \n            \n           \n          \n\n           \n\n    Name Surname *Telephone number *EmailName of the Fair You Are Interested InNotesThe message has been sent.×There was a problem sending the message.×Send
URL:https://fieratur.novai.com.tr/en/fuar-turu/pack-expo-southeast/
LOCATION:Georgia World Congress Center\, 285 Andrew Young International Blvd NW\, Atlanta\, GA 30313\, United States\, GA\, United States
CATEGORIES:Agriculture & Packaging
ATTACH;FMTTYPE=image/jpeg:https://fieratur.novai.com.tr/wp-content/uploads/2024/11/pack-expo-southeast.jpg
END:VEVENT
END:VCALENDAR