BEGIN:VCALENDAR
VERSION:2.0
PRODID:-//Fiera Tur | Uluslararası ve Yurtdışı Fuar Turları - ECPv6.10.0//NONSGML v1.0//EN
CALSCALE:GREGORIAN
METHOD:PUBLISH
X-WR-CALNAME:Fiera Tur | Uluslararası ve Yurtdışı Fuar Turları
X-ORIGINAL-URL:https://fieratur.novai.com.tr/en/
X-WR-CALDESC:Events for Fiera Tur | Uluslararası ve Yurtdışı Fuar Turları
REFRESH-INTERVAL;VALUE=DURATION:PT1H
X-Robots-Tag:noindex
X-PUBLISHED-TTL:PT1H
BEGIN:VTIMEZONE
TZID:Europe/Moscow
BEGIN:STANDARD
TZOFFSETFROM:+0300
TZOFFSETTO:+0300
TZNAME:MSK
DTSTART:20250101T000000
END:STANDARD
END:VTIMEZONE
BEGIN:VEVENT
DTSTART;VALUE=DATE:20250902
DTEND;VALUE=DATE:20250905
DTSTAMP:20260422T190008
CREATED:20250213T110051Z
LAST-MODIFIED:20250213T110108Z
UID:10000057-1756771200-1757030399@fieratur.novai.com.tr
SUMMARY:GLOBAL WATER EXPO
DESCRIPTION:Fair InfoTour InformationExhibition DetailsFair Info     \n\nHistory: 2 September 2025 - 4 September 2025\n\nCategory: Energy\n\nCountry: \n\nFairground: Riyadh International Convention and Exhibition Center\n\n  Tour Information      \n     \nFlight Info\n    \n        \n            \n                Departure Date\n                Return Date\n                Airline\n                Departure Airport\n                Arrival Airport\n                Departure time İstanbul\n                Arrivel Time to Destination\n                Departure time Destination\n                Landing time İstanbul\n            \n        \n        \n            \n                \n                \n                \n                \n                \n                \n                \n                \n                \n            \n        \n    \n \n    Accomodation\n    \n        \n            \n                Hotel Name\n                Distance to Fair \n                Distance to Transportation\n                Location\n            \n        \n        \n            \n                \n                 Meter\n                 Meter\n                Show on Map\n            \n        \n    \n \n\n \n     Exhibition Details   [fusion_imageframe lightbox=”no” linktarget=”_self” align=”left” image_id=”2565″ max_width=”350px”\n\n \n\nName Surname *Telephone number *EmailName of the Fair You Are Interested InNotesThe message has been sent.×There was a problem sending the message.×Send
URL:https://fieratur.novai.com.tr/en/fuar-turu/global-water-expo/
LOCATION:Riyadh International Convention and Exhibition Center\, Riyadh\, Saudi Arabia
CATEGORIES:Energy
ATTACH;FMTTYPE=image/jpeg:https://fieratur.novai.com.tr/wp-content/uploads/2025/02/global-water.jpg
END:VEVENT
END:VCALENDAR