BEGIN:VCALENDAR
VERSION:2.0
PRODID:-//Fiera Tur | Uluslararası ve Yurtdışı Fuar Turları - ECPv6.10.0//NONSGML v1.0//EN
CALSCALE:GREGORIAN
METHOD:PUBLISH
X-ORIGINAL-URL:https://fieratur.novai.com.tr/en/
X-WR-CALDESC:Events for Fiera Tur | Uluslararası ve Yurtdışı Fuar Turları
REFRESH-INTERVAL;VALUE=DURATION:PT1H
X-Robots-Tag:noindex
X-PUBLISHED-TTL:PT1H
BEGIN:VTIMEZONE
TZID:Europe/Moscow
BEGIN:STANDARD
TZOFFSETFROM:+0300
TZOFFSETTO:+0300
TZNAME:MSK
DTSTART:20250101T000000
END:STANDARD
END:VTIMEZONE
BEGIN:VEVENT
DTSTART;VALUE=DATE:20250513
DTEND;VALUE=DATE:20250516
DTSTAMP:20260423T044804
CREATED:20250213T100921Z
LAST-MODIFIED:20250213T100942Z
UID:10000031-1747094400-1747353599@fieratur.novai.com.tr
SUMMARY:Saudi Arabia Coatings Show
DESCRIPTION:Fair InfoTour InformationExhibition DetailsFair Info     \n\nHistory: 3 September 2025 - 5 September 2025\n\nCategory: Paint / Chemical\n\nCountry: Thailand\n\nFairground: BANGKOK INTERNATIONAL TRADE & EXHIBITION CENTRE THAILAND\n\n  Tour Information      \n     \nFlight Info\n    \n        \n            \n                Departure Date\n                Return Date\n                Airline\n                Departure Airport\n                Arrival Airport\n                Departure time İstanbul\n                Arrivel Time to Destination\n                Departure time Destination\n                Landing time İstanbul\n            \n        \n        \n            \n                \n                \n                \n                \n                \n                \n                \n                \n                \n            \n        \n    \n \n    Accomodation\n    \n        \n            \n                Hotel Name\n                Distance to Fair \n                Distance to Transportation\n                Location\n            \n        \n        \n            \n                \n                 Meter\n                 Meter\n                Show on Map\n            \n        \n    \n \n\n \n     Exhibition Details    \n\n \n\nName Surname *Telephone number *EmailName of the Fair You Are Interested InNotesThe message has been sent.×There was a problem sending the message.×Send
URL:https://fieratur.novai.com.tr/en/fuar-turu/saudi-arabia-coatings-show/
LOCATION:DHAHRAN EXPO\, 4344 Exhibition Rd\, Al Saif\, Dammam 34213\, Saudi Arabia\, Dammam\, Saudi Arabia
CATEGORIES:Paint / Chemical
ATTACH;FMTTYPE=image/jpeg:https://fieratur.novai.com.tr/wp-content/uploads/2025/02/SAUDI-ARABIA-COATINGS-SHOW.jpg
END:VEVENT
END:VCALENDAR