BEGIN:VCALENDAR
VERSION:2.0
PRODID:-//Fiera Tur | Uluslararası ve Yurtdışı Fuar Turları - ECPv6.10.0//NONSGML v1.0//EN
CALSCALE:GREGORIAN
METHOD:PUBLISH
X-WR-CALNAME:Fiera Tur | Uluslararası ve Yurtdışı Fuar Turları
X-ORIGINAL-URL:https://fieratur.novai.com.tr/en/
X-WR-CALDESC:Events for Fiera Tur | Uluslararası ve Yurtdışı Fuar Turları
REFRESH-INTERVAL;VALUE=DURATION:PT1H
X-Robots-Tag:noindex
X-PUBLISHED-TTL:PT1H
BEGIN:VTIMEZONE
TZID:Europe/Moscow
BEGIN:STANDARD
TZOFFSETFROM:+0300
TZOFFSETTO:+0300
TZNAME:MSK
DTSTART:20250101T000000
END:STANDARD
END:VTIMEZONE
BEGIN:VEVENT
DTSTART;VALUE=DATE:20250903
DTEND;VALUE=DATE:20250906
DTSTAMP:20260422T222937
CREATED:20250723T113920Z
LAST-MODIFIED:20250730T084340Z
UID:10000099-1756857600-1757116799@fieratur.novai.com.tr
SUMMARY:ASIA PACIFIC COATINGS SHOW
DESCRIPTION:Fair InfoTour InformationExhibition DetailsFair Info      History: 3 September 2025 - 5 September 2025 Category: Paint / Chemical Country: Thailand Fairground: BANGKOK INTERNATIONAL TRADE & EXHIBITION CENTRE THAILAND   Tour Information      \n     \nFlight Info\n    \n        \n            \n                Departure Date\n                Return Date\n                Airline\n                Departure Airport\n                Arrival Airport\n                Departure time İstanbul\n                Arrivel Time to Destination\n                Departure time Destination\n                Landing time İstanbul\n            \n        \n        \n            \n                \n                \n                \n                \n                \n                \n                \n                \n                \n            \n        \n    \n \n    Accomodation\n    \n        \n            \n                Hotel Name\n                Distance to Fair \n                Distance to Transportation\n                Location\n            \n        \n        \n            \n                \n                 Meter\n                 Meter\n                Show on Map\n            \n        \n    \n \n\n \n     Exhibition Details\n\n  \nAsia Pacific Coatings Show\, which will be held in Bangkok on September 3-5\, 2025\, is an important meeting point for companies operating in the paint and chemical coatings industry. The event offers new business opportunities\, product promotion and strong business connections to companies that want to open up to the Asia-Pacific market.  \nThe fair\, where innovations in surface coating and paint technologies will be exhibited\, is a strategic platform for companies that want to take advantage of the regional growth potential. \n  Name Surname *Telephone number *EmailName of the Fair You Are Interested InNotesThe message has been sent.×There was a problem sending the message.×Send
URL:https://fieratur.novai.com.tr/en/fuar-turu/asia-pacific-coatings-show/
LOCATION:BANGKOK INTERNATIONAL TRADE & EXHIBITION CENTRE THAILAND\, 88 Debaratna Rd\, Bang Na Tai\, Bang Na\, Bangkok 10260\, Thailand\, Bangkok\, Thailand
CATEGORIES:Paint / Chemical
ATTACH;FMTTYPE=image/png:https://fieratur.novai.com.tr/wp-content/uploads/2025/07/asia-pacific.png
END:VEVENT
END:VCALENDAR