BEGIN:VCALENDAR
VERSION:2.0
PRODID:-//Fiera Tur | Uluslararası ve Yurtdışı Fuar Turları - ECPv6.10.0//NONSGML v1.0//EN
CALSCALE:GREGORIAN
METHOD:PUBLISH
X-WR-CALNAME:Fiera Tur | Uluslararası ve Yurtdışı Fuar Turları
X-ORIGINAL-URL:https://fieratur.novai.com.tr
X-WR-CALDESC:Fiera Tur | Uluslararası ve Yurtdışı Fuar Turları için etkinlikler
REFRESH-INTERVAL;VALUE=DURATION:PT1H
X-Robots-Tag:noindex
X-PUBLISHED-TTL:PT1H
BEGIN:VTIMEZONE
TZID:Europe/Moscow
BEGIN:STANDARD
TZOFFSETFROM:+0300
TZOFFSETTO:+0300
TZNAME:MSK
DTSTART:20250101T000000
END:STANDARD
END:VTIMEZONE
BEGIN:VEVENT
DTSTART;VALUE=DATE:20251024
DTEND;VALUE=DATE:20251027
DTSTAMP:20260424T172926
CREATED:20250723T120115Z
LAST-MODIFIED:20250723T120115Z
UID:10000090-1761264000-1761523199@fieratur.novai.com.tr
SUMMARY:DFF EXPO LIBYA
DESCRIPTION:Fuar BilgisiTur BilgileriFuar DetaylarıFuar Bilgisi      Tarih: 15 Aralık 2025 - 17 Aralık 2025 Kategori: Gıda Ülke: Suudi Arabistan Fuar Alanı: Riyadh Front Exhibition & Conference Center   Tur Bilgileri      \n     \nUçuş Bilgileri\n    \n        \n            \n                Gidiş Tarihi\n                Dönüş Tarihi\n                Hava Yolu\n                Kalkış Hava Limanı\n                Varış Hava Limanı\n                İstanbul'dan Kalkış Saati\n                Varış Noktasına Varış Saati\n                Varış Noktasından Kalkış Saati\n                İstanbul'a Varış Saati\n            \n        \n        \n            \n                \n                \n                \n                \n                \n                \n                \n                \n                \n            \n        \n    \n \n    Konaklama\n    \n        \n            \n                Otel Adı\n                Fuara Ulaşım Mesafesi\n                Toplu Taşımaya Mesafe\n                Konum\n            \n        \n        \n            \n                \n                 Metre\n                 Metre\n                Haritada Göster\n            \n        \n    \n \n\n \n     Fuar Detayları\n\n\n\n   24-26 Kasım 2025 tarihlerinde Bingazi’deki Expo Libya Exhibition Grounds’ta düzenlenecek olan DFF Expo Libya\, mimarlık\, mobilya ve tasarım sektörlerinde faaliyet gösteren firmalar için önemli bir buluşma noktasıdır. Yeniden yapılanma sürecindeki Libya pazarına açılmak isteyen firmalar için stratejik fırsatlar sunan fuar\, yenilikçi ürünlerin tanıtıldığı\, iş bağlantılarının kurulduğu ve sektörel iş birliklerinin geliştirildiği bir platformdur.   Ad soyad *Telefon numarası *Emailİlgilendiğiniz Fuarın AdıNotlarMesaj gönderildi.×Mesajı gönderirken bir problem meydana geldi.×Gönder \n\n\n\n 
URL:https://fieratur.novai.com.tr/fuar-turu/dff-expo-libya/
LOCATION:Expo Libya Exhibition Grounds\, 65C9+JPV\, Kuwayfiyah\, Libya\, Kuwayfiyah\, Libya
CATEGORIES:Dekorasyon
ATTACH;FMTTYPE=image/png:https://fieratur.novai.com.tr/wp-content/uploads/2025/07/libya-fuar.png
END:VEVENT
END:VCALENDAR