BEGIN:VCALENDAR
VERSION:2.0
PRODID:-//Fiera Tur | Uluslararası ve Yurtdışı Fuar Turları - ECPv6.10.0//NONSGML v1.0//EN
CALSCALE:GREGORIAN
METHOD:PUBLISH
X-WR-CALNAME:Fiera Tur | Uluslararası ve Yurtdışı Fuar Turları
X-ORIGINAL-URL:https://fieratur.novai.com.tr
X-WR-CALDESC:Fiera Tur | Uluslararası ve Yurtdışı Fuar Turları için etkinlikler
REFRESH-INTERVAL;VALUE=DURATION:PT1H
X-Robots-Tag:noindex
X-PUBLISHED-TTL:PT1H
BEGIN:VTIMEZONE
TZID:Europe/Moscow
BEGIN:STANDARD
TZOFFSETFROM:+0300
TZOFFSETTO:+0300
TZNAME:MSK
DTSTART:20250101T000000
END:STANDARD
END:VTIMEZONE
BEGIN:VEVENT
DTSTART;VALUE=DATE:20250520
DTEND;VALUE=DATE:20250523
DTSTAMP:20260423T043458
CREATED:20250213T101727Z
LAST-MODIFIED:20250213T101727Z
UID:10000036-1747699200-1747958399@fieratur.novai.com.tr
SUMMARY:Saudi Signage Expo
DESCRIPTION:Fuar BilgisiTur BilgileriFuar DetaylarıFuar Bilgisi     \n\nTarih: 20 Mayıs 2025 - 22 Mayıs 2025\n\nKategori: Baskı\n\nÜlke: Suudi Arabistan\n\nFuar Alanı: \n\n  Tur Bilgileri      \n     \nUçuş Bilgileri\n    \n        \n            \n                Gidiş Tarihi\n                Dönüş Tarihi\n                Hava Yolu\n                Kalkış Hava Limanı\n                Varış Hava Limanı\n                İstanbul'dan Kalkış Saati\n                Varış Noktasına Varış Saati\n                Varış Noktasından Kalkış Saati\n                İstanbul'a Varış Saati\n            \n        \n        \n            \n                \n                \n                \n                \n                \n                \n                \n                \n                \n            \n        \n    \n \n    Konaklama\n    \n        \n            \n                Otel Adı\n                Fuara Ulaşım Mesafesi\n                Toplu Taşımaya Mesafe\n                Konum\n            \n        \n        \n            \n                \n                 Metre\n                 Metre\n                Haritada Göster\n            \n        \n    \n \n\n \n     Fuar Detayları    \n\n \n\nAd soyad *Telefon numarası *Emailİlgilendiğiniz Fuarın AdıNotlarMesaj gönderildi.×Mesajı gönderirken bir problem meydana geldi.×Gönder\n\n\n\n\n\n 
URL:https://fieratur.novai.com.tr/fuar-turu/saudi-signage-expo/
CATEGORIES:Baskı
ATTACH;FMTTYPE=image/jpeg:https://fieratur.novai.com.tr/wp-content/uploads/2025/02/Saudi-signage.jpg
END:VEVENT
END:VCALENDAR