BEGIN:VCALENDAR
VERSION:2.0
PRODID:-//Fiera Tur | Uluslararası ve Yurtdışı Fuar Turları - ECPv6.10.0//NONSGML v1.0//EN
CALSCALE:GREGORIAN
METHOD:PUBLISH
X-WR-CALNAME:Fiera Tur | Uluslararası ve Yurtdışı Fuar Turları
X-ORIGINAL-URL:https://fieratur.novai.com.tr
X-WR-CALDESC:Fiera Tur | Uluslararası ve Yurtdışı Fuar Turları için etkinlikler
REFRESH-INTERVAL;VALUE=DURATION:PT1H
X-Robots-Tag:noindex
X-PUBLISHED-TTL:PT1H
BEGIN:VTIMEZONE
TZID:Europe/Moscow
BEGIN:STANDARD
TZOFFSETFROM:+0300
TZOFFSETTO:+0300
TZNAME:MSK
DTSTART:20250101T000000
END:STANDARD
END:VTIMEZONE
BEGIN:VEVENT
DTSTART;VALUE=DATE:20250527
DTEND;VALUE=DATE:20250530
DTSTAMP:20260423T131012
CREATED:20250213T101944Z
LAST-MODIFIED:20250221T105131Z
UID:10000038-1748304000-1748563199@fieratur.novai.com.tr
SUMMARY:SAUDI WAREHOUSE & LOGISTICS EXPO
DESCRIPTION:Fuar BilgisiTur BilgileriFuar DetaylarıFuar Bilgisi      Tarih: 27 Mayıs 2025 - 29 Mayıs 2025 Kategori: Lojistik Ülke: Suudi Arabistan Fuar Alanı: Riyadh International Convention and Exhibition Center   Tur Bilgileri      \n     \nUçuş Bilgileri\n    \n        \n            \n                Gidiş Tarihi\n                Dönüş Tarihi\n                Hava Yolu\n                Kalkış Hava Limanı\n                Varış Hava Limanı\n                İstanbul'dan Kalkış Saati\n                Varış Noktasına Varış Saati\n                Varış Noktasından Kalkış Saati\n                İstanbul'a Varış Saati\n            \n        \n        \n            \n                \n                \n                \n                \n                \n                \n                \n                \n                \n            \n        \n    \n \n    Konaklama\n    \n        \n            \n                Otel Adı\n                Fuara Ulaşım Mesafesi\n                Toplu Taşımaya Mesafe\n                Konum\n            \n        \n        \n            \n                \n                 Metre\n                 Metre\n                Haritada Göster\n            \n        \n    \n \n\n \n     Fuar Detayları\n\n       Ad soyad *Telefon numarası *Emailİlgilendiğiniz Fuarın AdıNotlarMesaj gönderildi.×Mesajı gönderirken bir problem meydana geldi.×Gönder
URL:https://fieratur.novai.com.tr/fuar-turu/saudi-warehouse-logistics-expo/
LOCATION:Riyadh International Convention and Exhibition Center\, Riyadh\, Saudi Arabia
CATEGORIES:Lojistik
ATTACH;FMTTYPE=image/jpeg:https://fieratur.novai.com.tr/wp-content/uploads/2025/02/saudi-lojistik.jpg
END:VEVENT
END:VCALENDAR